BEGIN:VCALENDAR
VERSION:2.0
PRODID:-//Tommy Davidson - ECPv5.3.2.1//NONSGML v1.0//EN
CALSCALE:GREGORIAN
METHOD:PUBLISH
X-WR-CALNAME:Tommy Davidson
X-ORIGINAL-URL:https://tommycat.net
X-WR-CALDESC:Events for Tommy Davidson
BEGIN:VTIMEZONE
TZID:America/Chicago
BEGIN:DAYLIGHT
TZOFFSETFROM:-0600
TZOFFSETTO:-0500
TZNAME:CDT
DTSTART:20160313T080000
END:DAYLIGHT
BEGIN:STANDARD
TZOFFSETFROM:-0500
TZOFFSETTO:-0600
TZNAME:CST
DTSTART:20161106T070000
END:STANDARD
END:VTIMEZONE
BEGIN:VEVENT
DTSTART;VALUE=DATE:20160818
DTEND;VALUE=DATE:20160821
DTSTAMP:20260420T023351
CREATED:20160409T180755Z
LAST-MODIFIED:20160409T180755Z
UID:2277-1471478400-1471737599@tommycat.net
SUMMARY:Tommy Davidson Headlines in Austin\, TX (August 18-20)
DESCRIPTION:@ Cap City – Click For More!
URL:https://tommycat.net/event/tommy-davidson-headlines-in-austin-tx-august-18-20/
CATEGORIES:Standup
END:VEVENT
END:VCALENDAR