BEGIN:VCALENDAR
VERSION:2.0
PRODID:-//Tommy Davidson - ECPv5.3.2.1//NONSGML v1.0//EN
CALSCALE:GREGORIAN
METHOD:PUBLISH
X-WR-CALNAME:Tommy Davidson
X-ORIGINAL-URL:https://tommycat.net
X-WR-CALDESC:Events for Tommy Davidson
BEGIN:VTIMEZONE
TZID:America/Denver
BEGIN:DAYLIGHT
TZOFFSETFROM:-0700
TZOFFSETTO:-0600
TZNAME:MDT
DTSTART:20160313T090000
END:DAYLIGHT
BEGIN:STANDARD
TZOFFSETFROM:-0600
TZOFFSETTO:-0700
TZNAME:MST
DTSTART:20161106T080000
END:STANDARD
END:VTIMEZONE
BEGIN:VEVENT
DTSTART;VALUE=DATE:20161229
DTEND;VALUE=DATE:20170101
DTSTAMP:20260419T083617
CREATED:20161003T163116Z
LAST-MODIFIED:20161003T163116Z
UID:2414-1482969600-1483228799@tommycat.net
SUMMARY:Tommy Davidson at Baltimore Comedy Club\, Baltimore\, Maryland
DESCRIPTION:Tommy Davidson at Baltimore Comedy Club\, Baltimore\, Maryland \nClick Here For Tickets!
URL:https://tommycat.net/event/tommy-davidson-at-baltimore-comedy-club-baltimore-maryland/
CATEGORIES:Standup
END:VEVENT
END:VCALENDAR