BEGIN:VCALENDAR
VERSION:2.0
PRODID:-//Tommy Davidson - ECPv5.3.2.1//NONSGML v1.0//EN
CALSCALE:GREGORIAN
METHOD:PUBLISH
X-WR-CALNAME:Tommy Davidson
X-ORIGINAL-URL:https://tommycat.net
X-WR-CALDESC:Events for Tommy Davidson
BEGIN:VTIMEZONE
TZID:America/Denver
BEGIN:DAYLIGHT
TZOFFSETFROM:-0700
TZOFFSETTO:-0600
TZNAME:MDT
DTSTART:20180311T090000
END:DAYLIGHT
BEGIN:STANDARD
TZOFFSETFROM:-0600
TZOFFSETTO:-0700
TZNAME:MST
DTSTART:20181104T080000
END:STANDARD
END:VTIMEZONE
BEGIN:VEVENT
DTSTART;VALUE=DATE:20180310
DTEND;VALUE=DATE:20180311
DTSTAMP:20260419T084218
CREATED:20180216T172942Z
LAST-MODIFIED:20180216T172942Z
UID:2694-1520640000-1520726399@tommycat.net
SUMMARY:Off Color Comedy Tour - Northfield\, OH
DESCRIPTION:Hard Rock Rocksino Northfield Park Hard Rock Live – Get Tickets Here!
URL:https://tommycat.net/event/off-color-comedy-tour-northfield-oh/
CATEGORIES:Standup
END:VEVENT
END:VCALENDAR